BEGIN:VCALENDAR
VERSION:2.0
PRODID:-//4Score7Pongs//Meal-Morial Madness//EN
CALSCALE:GREGORIAN
BEGIN:VEVENT
UID:mmm2026@4score7pongs.org
DTSTAMP:20260421T211000Z
DTSTART:20260522T160000Z
DTEND:20260525T020000Z
SUMMARY:Meal-Morial Madness 2026 - Supporting Feeding America
DESCRIPTION:Annual charity marathon supporting Feeding America.\n\nInfo: https://4score7pongs.com/mmm\nWatch Live: https://4score7pongs.com/watch\nDonate: https://4score7pongs.com/donate
LOCATION:https://4score7pongs.com/watch
END:VEVENT
END:VCALENDAR